BEGIN:VCALENDAR
VERSION:2.0
PRODID:-//UCI Counseling Center - ECPv6.15.13.1//NONSGML v1.0//EN
CALSCALE:GREGORIAN
METHOD:PUBLISH
X-ORIGINAL-URL:https://counseling.uci.edu
X-WR-CALDESC:Events for UCI Counseling Center
REFRESH-INTERVAL;VALUE=DURATION:PT1H
X-Robots-Tag:noindex
X-PUBLISHED-TTL:PT1H
BEGIN:VTIMEZONE
TZID:UTC
BEGIN:STANDARD
TZOFFSETFROM:+0000
TZOFFSETTO:+0000
TZNAME:UTC
DTSTART:20200101T000000
END:STANDARD
END:VTIMEZONE
BEGIN:VEVENT
DTSTART;TZID=UTC:20211120T093000
DTEND;TZID=UTC:20211120T103000
DTSTAMP:20260422T215223
CREATED:20211117T091450Z
LAST-MODIFIED:20211117T091450Z
UID:709-1637400600-1637404200@counseling.uci.edu
SUMMARY:Overcoming Social Anxiety Group
DESCRIPTION:This skills-focused group is designed to help students overcome anxiety in a variety of social situations including public speaking\, meeting new people\, initiating and maintaining conversations.  ** pre-group screening required.
URL:https://counseling.uci.edu/event/overcoming-social-anxiety-group/
END:VEVENT
BEGIN:VEVENT
DTSTART;TZID=UTC:20211117T080000
DTEND;TZID=UTC:20211117T170000
DTSTAMP:20260422T215223
CREATED:20211117T092612Z
LAST-MODIFIED:20211117T092612Z
UID:707-1637136000-1637168400@counseling.uci.edu
SUMMARY:Overcoming Social Anxiety Therapy Group
DESCRIPTION:Your content goes here. Edit or remove this text inline or in the module Content settings. You can also style every aspect of this content in the module Design settings and even apply custom CSS to this text in the module Advanced settings. \n			\n			\n				\n				\n				\n				\n				\n				\n									\n												\n					\n												\n															Fandom and Mental Health Benefits\n								\n									by stansbec | July 1\, 2024 | Mind Your Zot | 0 Comments It is getting closer to the holiday break and the end is in sight!  Soon we will be with family and friends and getting some much-needed relaxation after the start to the quarter!  Phew! \nWhile this time can be something to look forward to\, it is important to still be aware of caring for your mental health.  Here are some things to consider as we reach the end of the year! \n								\n														Read More						\n											\n				\n			\n								\n												\n					\n												\n															Managing Perfectionism\n								\n									by stansbec | May 28\, 2024 | Mind Your Zot | 0 Comments It is getting closer to the holiday break and the end is in sight!  Soon we will be with family and friends and getting some much-needed relaxation after the start to the quarter!  Phew! \nWhile this time can be something to look forward to\, it is important to still be aware of caring for your mental health.  Here are some things to consider as we reach the end of the year! \n								\n														Read More						\n											\n				\n			\n								\n												\n					\n												\n															Mental Health Awareness Month\n								\n									by stansbec | April 22\, 2024 | Mind Your Zot | 0 Comments It is getting closer to the holiday break and the end is in sight!  Soon we will be with family and friends and getting some much-needed relaxation after the start to the quarter!  Phew! \nWhile this time can be something to look forward to\, it is important to still be aware of caring for your mental health.  Here are some things to consider as we reach the end of the year! \n								\n														Read More						\n											\n				\n			\n								\n												\n					\n												\n															Seeking Authenticity with Friendships\n								\n									by stansbec | March 18\, 2024 | Mind Your Zot | 0 Comments It is getting closer to the holiday break and the end is in sight!  Soon we will be with family and friends and getting some much-needed relaxation after the start to the quarter!  Phew! \nWhile this time can be something to look forward to\, it is important to still be aware of caring for your mental health.  Here are some things to consider as we reach the end of the year! \n								\n														Read More						\n											\n				\n			\n								\n												\n					\n												\n															Mental Health Spring Cleaning\n								\n									by stansbec | March 1\, 2024 | Mind Your Zot | 0 Comments It is getting closer to the holiday break and the end is in sight!  Soon we will be with family and friends and getting some much-needed relaxation after the start to the quarter!  Phew! \nWhile this time can be something to look forward to\, it is important to still be aware of caring for your mental health.  Here are some things to consider as we reach the end of the year! \n								\n														Read More						\n											\n				\n			\n								\n												\n					\n												\n															Body Neutrality\n								\n									by stansbec | January 19\, 2024 | Mind Your Zot | 0 Comments It is getting closer to the holiday break and the end is in sight!  Soon we will be with family and friends and getting some much-needed relaxation after the start to the quarter!  Phew! \nWhile this time can be something to look forward to\, it is important to still be aware of caring for your mental health.  Here are some things to consider as we reach the end of the year! \n								\n														Read More						\n											\n				\n			\n								\n												\n					\n												\n															The Importance of Intentionality\n								\n									by stansbec | December 14\, 2023 | Mind Your Zot | 0 Comments It is getting closer to the holiday break and the end is in sight!  Soon we will be with family and friends and getting some much-needed relaxation after the start to the quarter!  Phew! \nWhile this time can be something to look forward to\, it is important to still be aware of caring for your mental health.  Here are some things to consider as we reach the end of the year! \n								\n														Read More						\n											\n				\n			\n								\n												\n					\n												\n															Holiday Healing\n								\n									by stansbec | November 21\, 2023 | Mind Your Zot | 0 Comments It is getting closer to the holiday break and the end is in sight!  Soon we will be with family and friends and getting some much-needed relaxation after the start to the quarter!  Phew! \nWhile this time can be something to look forward to\, it is important to still be aware of caring for your mental health.  Here are some things to consider as we reach the end of the year! \n								\n														Read More						\n											\n				\n			\n								\n												\n					\n												\n															How to Practice Gratitude\n								\n									by stansbec | October 25\, 2023 | Mind Your Zot | 0 Comments It is getting closer to the holiday break and the end is in sight!  Soon we will be with family and friends and getting some much-needed relaxation after the start to the quarter!  Phew! \nWhile this time can be something to look forward to\, it is important to still be aware of caring for your mental health.  Here are some things to consider as we reach the end of the year! \n								\n														Read More						\n											\n				\n			\n								\n												\n					\n												\n															Transitioning Into Fall\n								\n									by stansbec | September 25\, 2023 | Mind Your Zot | 0 Comments It is getting closer to the holiday break and the end is in sight!  Soon we will be with family and friends and getting some much-needed relaxation after the start to the quarter!  Phew! \nWhile this time can be something to look forward to\, it is important to still be aware of caring for your mental health.  Here are some things to consider as we reach the end of the year! \n								\n														Read More
URL:https://counseling.uci.edu/event/overcoming-social-anxiety-therapy-group/
END:VEVENT
END:VCALENDAR